BEGIN:VCALENDAR
VERSION:2.0
PRODID:-//SMARTCirculair - ECPv6.8.2.1//NONSGML v1.0//EN
CALSCALE:GREGORIAN
METHOD:PUBLISH
X-ORIGINAL-URL:https://www.smartcirculair.com
X-WR-CALDESC:Evenementen voor SMARTCirculair
REFRESH-INTERVAL;VALUE=DURATION:PT1H
X-Robots-Tag:noindex
X-PUBLISHED-TTL:PT1H
BEGIN:VTIMEZONE
TZID:Europe/Amsterdam
BEGIN:DAYLIGHT
TZOFFSETFROM:+0100
TZOFFSETTO:+0200
TZNAME:CEST
DTSTART:20250330T010000
END:DAYLIGHT
BEGIN:STANDARD
TZOFFSETFROM:+0200
TZOFFSETTO:+0100
TZNAME:CET
DTSTART:20251026T010000
END:STANDARD
END:VTIMEZONE
BEGIN:VEVENT
DTSTART;TZID=Europe/Amsterdam:20250618T110000
DTEND;TZID=Europe/Amsterdam:20250618T170000
DTSTAMP:20260419T181454
CREATED:20250315T133945Z
LAST-MODIFIED:20250613T083537Z
UID:51034-1750244400-1750266000@www.smartcirculair.com
SUMMARY:SMARTCirculair Bouw OntwerpChallenge Finale 18 juni 2025
DESCRIPTION:‘Deze kanjers van het Technova College hebben laten zien dat optoppen een fantastische kans is om woningbouw te versnellen\, leefbaarheid te vergroten\, duurzaamheid een boost te geven en ook nog eens heel mooi is om naar te kijken en in te wonen. Ze hebben dan ook niet voor niets SMARTCirculair 2025 gewonnen met hun ontwerp!” \nOp woensdag 18 juni 2025 gaat het dak eraf tijdens de finale van de SMARTCirculair Bouw OntwerpChallenge 2025. \n\nTIP 1: Studenten\, geef de streaming link door aan al je supporters want dit wordt weer een onvergetelijk evenement.\nTIP 2: Genodigden\, wilt u verzekerd zijn van een plaatsje\, meld u dan gelijk even aan.\n\nHoe laat?\n\n\nOntvangst voor pitchers die hun presentatie willen testen: 11:30 uur\n\n\nInloop teams\, opdrachtgevers en genodigden: 11.30 – 12:00u\n\n\nLivestream vanaf 12.30 uur\n\n\nDe Livestream \nkunt u HIER volgen\n\n\nEinde: 17:00u\n\n\n  \nLocatie\n\n\nHoornbeeck\nUtrechtseweg 230\, 3818 ET Amersfoort\n\n\nBen je erbij? Vergeet je niet aan te melden\n \n  \n  \nOf meld je aan VIA DEZE LINK \n  \n  \n  \n3D modellen en sound checken\nAlle teams nemen hun 3D model mee zodat de jury voor aanvang van de pitches – en nadat ze jullie rapporten hebben doorgenomen – jullie ontwerp kunnen bekijken\, beoordelen en bewonderen.\n\n\nWil je eerder komen ‘soundchecken’\, meld je dan even bij Tanja\n\n  \nDe finale en de beoordeling van de jury bestaat uit vier onderdelen:\n\n\n\n\n\n\n4 minuten pitch voor jury en publiek\naangevuld met 4 minuten juryvragen\n\n\nVisie als bijdrage aan de circulaire bouweconomie\n\n\nRapportages kosten/constructie\n\n\nTekeningen\, materialen\, groen/blauwe gebiedsinrichting\n\n\n3D presentatie van het prototype\n\n\n\n\n\n\nStudententeams pitchen hun ontwerp voor de vakjury waarna de jury een keuze maakt voor het ‘beste’ concept en het doorgerekende model.\n  \nProgramma\n\n\n\n11.30\nInloop\n\n\n11.45\nLunch\n\n\n12.25\nWelkom\n\n\n12.40\nDe jury wordt voorgesteld\n\n\n12.50\nUitleg programma\n\n\n13:00\nStart eerste serie pitches\n\n\n\nAlfa College + Noorderpoort\n\n\n\nMBO Rijnland\n\n\n\nHoornbeeck College\n\n\n\nFirda Sneek\n\n\n\nAventus\n\n\n\nDeltion College\n\n\n14:15\nPauze\n\n\n14:30\nStart tweede serie pitches\n\n\n\nMBO Utrecht\n\n\n\nTechnova\n\n\n\nTechniek College Rotterdam\n\n\n\nFirda Leeuwarden\n\n\n\nROC Amsterdam\n\n\n15:30\nJury overleg/ groepsfoto/korte pauze\n\n\n16.00\nCatchbox time\n\n\n16.10\nWall of fame\n\n\n16.25\nPrijsuitreiking\n\n\n\nAlle informatie over de SMARTCirculair finale\n\n\nKLIK HIER voor de jurysamenstelling\n\n\nKLIK HIER en lees de toelichting op de jurybeoordeling en de uitgewerkte SMARTCirculair criteria\n\nKLIK HIER en bekijk alle inzendingen van de scholen
URL:https://www.smartcirculair.com/event/smartcirculair-bouw-ontwerpchallenge-finale-18-juni-2025/
CATEGORIES:Evenement,Finale,SMARTCirculair
ORGANIZER;CN="SMARTCirculair":MAILTO:tanja@smartcirculair.com
END:VEVENT
BEGIN:VEVENT
DTSTART;TZID=Europe/Amsterdam:20250630T124500
DTEND;TZID=Europe/Amsterdam:20250630T170000
DTSTAMP:20260419T181454
CREATED:20250219T135124Z
LAST-MODIFIED:20250516T104046Z
UID:50848-1751287500-1751302800@www.smartcirculair.com
SUMMARY:Optopspecial Gelderland | 30 juni '25
DESCRIPTION:Optopspecial Gelderland | 30 juni ’25 \nDe Provincie Gelderland wil de hoogte in met bouwen. In Gelderland is ruimte voor zo’n 12.000 optopwoningen. Om gemeenten\, corporaties en ontwikkelaars te helpen heeft de provincie studenten mbo en hbo gevraagd om met doorgerekende en gevisualiseerde ontwerpvoorstellen te komen.  \n\nOp maandagmiddag 30 juni organiseert Gelderland de Optopspecial 2025. \nOptopTop Gelderland  \nDatum: 30 juni 2025 \nTijd:     12.45 inloop met broodjes \n            16.35 borrel \nLocatie: Provinciehuis Arnhem \n            Markt 11\, 6811 CG Arnhem \nVoor wie: Woningcorporaties\, gemeenten\, projectontwikkelaars\, bouwers en leveranciers (biobased)bouwmaterialen\, investeerders\, onderwijsinstellingen \nVoorlopig Programma OptopTop Gelderland  \n\n\n\nTijd\nWat\n\n\n12.45u\nInloop met broodjes\n\n\n13.30u\nWelkom\n\n\n13.35u\nPitches HBO-teams optoppen incl. ruimte voor vragen\n\n\n14.15u\nBekijken maquettes mbo\, koffie pakken\n\n\n14.25u\nPitches MBO-teams Optoppen incl. ruimte voor vragen\n\n\n14.55u\nPanelgesprek \nvoorstel deelnemers: Dirk Vreugdenhil (gedeputeerde)\, Dave van den Berg (docent/onderzoeker HAN)\, Ingrid Timmer (wethouder Brummen) Alfred van den Bosch (Vivare) of Marco de Wilde (Woonstede)\n\n\n15.40u\nStart workshops (50 minuten) \n\nSessie 1: Visie en ambitie Optoppen bepalen\nSessie 2: Hoe geef je samenwerking tussen gemeente en corporatie vorm\nSessie 3: Hoe maak je een goede start met onderzoek naar haalbaarheid potentieel optopgebouw (MBO docent) Lessen uit MBO optopopdrachten\nSessie 4: Participatie olv HAN docent en studenten)\nSessie 5: Hoe krijg je VvE’s aan het Optoppen?\n\n \n\n\n16.35u\nBorrel\n\n\n\n\n\n\n\n\n \n  \n\n\n\n\nBetaalbare (optop)woningen\n\n\n\n\n“De woningnood is hoog. Nieuwbouw alleen is niet genoeg om door de wooncrisis te komen. We moeten slimmer omgaan met de woningen die er al zijn door woningen te splitsen en op het dak te bouwen. \n\n\n\n\nHet voordeel van de optopwoningen is dat ze vaak kleiner en goedkoper zijn. ”Dat is goed nieuws voor starters op de woningmarkt. Een nieuwbouwwoning is voor veel starters vaak al niet meer betaalbaar.” \n\n\n\n\nDirk Vreugdenhil\, Gedeputeerde \n  \n\n\n\n\n\nOptopopdrachten\, visulisaties en presentaties 2025 via SMARTCirculair\n\n\n\n\nStudententeam\n\n\nOpdracht\n\n\nOpdrachtgever\n\n\nStudententeam\n\n\n\n\nTECHNOVA EDE\n \n\n\nTransformatie/optopopdracht kantoorpand Galvanistraat\, Ede\n\n\nGemeente Ede\nism Woonstede\n\n\nMBO 3e jaars bouwkunde\n\n\n\n\nHOORNBEECK COLLEGE\n \n\n\nVerduurzamen en Optoppen op appartementengebouw\n\n\nOmnia Wonen\, Harderwijk\n\n\nMBO 3e jaars bouwkunde\n\n\n\n\nAVENTUS\n \n\n\nOptopconcepten voor 3 identieke appartement gebouwen in Brummen\n\n\nVeluwonen\n\n\n2e jaars bouwkunde\n\n\n\n\n \n\n\n \n\n\n \n\n\n \n\n\n\n\nHAN UNIVERSITY OF APPLIED SCIENCES\n\n\nWooncomplex Presikhaaf III\, Arnhem\n\n\nVivare ism gemeente Arnhem\n\n\n4e jaars bouwkunde\n\n\n\n\nHAN UNIVERSITY OF APPLIED SCIENCES\n\n\nPortiekflats en galerijflats Drieheuvelenpark ’s Heerenberg\n\n\nPlavei ism Optimum Plus\n\n\n4e jaars bouwkunde\n\n\n\n\nHAN UNIVERSITY OF APPLIED SCIENCES\n\n\nAppartement gebouwen in Brummen\n\n\nVeluwonen\n\n\n4e jaars bouwkunde\n\n\n\n\nHAN UNIVERSITY OF APPLIED SCIENCES\n\n\nWooncomplex Akkerstraat Tiel\n\n\nThius Tiel\n\n\n4e jaars bouwkunde\n\n\n\n \n\n\n\n\n\n\n\n\n\n\n\n\n\n\n\n\n\n\n\n\n\n\n\n\n\n\n  \n\nMeer informatie en aanmelden\nDe provincie Gelderland organiseert deze Optopmiddag samen met Stichting SMARTCirculair. Reserveerde de datum al in uw agenda. Wilt u al meer informatie over het programma\, uw deelname of de presentatie van uw producten? Neem dan contact op met: \n\nProvincie Gelderland\, Huibert Verdoold\, h.verdoold@gelderland.nl\nSMARTCirculair\, Tanja Nolten\, tanja@smartcirculair.com\n\nTot ziens op 30 juni in Arnhem
URL:https://www.smartcirculair.com/event/optopspecial-gelderland-30-juni-25/
LOCATION:Provincie Gelderland\, Markt 11\, Arnhem\, Gelderland\, 6811 CG\, Netherlands
CATEGORIES:Evenement,SMARTCirculair
ORGANIZER;CN="Provincie Gelderland":MAILTO:Wonen@nieuwsbrieven.gelderland.nl
END:VEVENT
END:VCALENDAR